BEGIN:VCALENDAR
VERSION:2.0
PRODID:-//Davidson Lifeline - ECPv6.15.1.1//NONSGML v1.0//EN
CALSCALE:GREGORIAN
METHOD:PUBLISH
X-ORIGINAL-URL:https://www.davidsonlifeline.org
X-WR-CALDESC:Events for Davidson Lifeline
REFRESH-INTERVAL;VALUE=DURATION:PT1H
X-Robots-Tag:noindex
X-PUBLISHED-TTL:PT1H
BEGIN:VTIMEZONE
TZID:America/New_York
BEGIN:DAYLIGHT
TZOFFSETFROM:-0500
TZOFFSETTO:-0400
TZNAME:EDT
DTSTART:20220313T070000
END:DAYLIGHT
BEGIN:STANDARD
TZOFFSETFROM:-0400
TZOFFSETTO:-0500
TZNAME:EST
DTSTART:20221106T060000
END:STANDARD
END:VTIMEZONE
BEGIN:VEVENT
DTSTART;VALUE=DATE:20221110
DTEND;VALUE=DATE:20221112
DTSTAMP:20260423T145856
CREATED:20220221T210037Z
LAST-MODIFIED:20220221T221727Z
UID:566-1668106800-1668193199@www.davidsonlifeline.org
SUMMARY:Veterans Day
DESCRIPTION:The Town of Davidson hosts a ceremony each year on November 11 at 11:00 a.m. to honor military veterans.\n\nWe hope you enjoy our virtual program from 2020. To learn more about Veterans Day visit the Veterans Affairs Website here.
URL:https://www.davidsonlifeline.org/event/veterans-day/
CATEGORIES:Town of Davidson
END:VEVENT
BEGIN:VEVENT
DTSTART;TZID=America/New_York:20221028T130000
DTEND;TZID=America/New_York:20221028T130000
DTSTAMP:20260423T145856
CREATED:20220221T205810Z
LAST-MODIFIED:20220221T221558Z
UID:564-1666962000-1666962000@www.davidsonlifeline.org
SUMMARY:Halloween March
DESCRIPTION:Event Details\n\nThe Town of Davidson will celebrate the Halloween season on Friday\, October 28 starting at 5:00 p.m. with our traditional Halloween March along Main Street. Families should line up at town hall to parade along main street to receive treats from merchants and organizations. \nSpecial thanks to our Davidson merchants and businesses for supporting this great event. We look forward to seeing you in costume! \nRegular Halloween trick-or-treating around town will still take place on October 28. \nFor More Information\nPlease contact Kim Fleming by email or by phone at 704-940-9622 with any questions.
URL:https://www.davidsonlifeline.org/event/halloween-march/
CATEGORIES:Town of Davidson
END:VEVENT
BEGIN:VEVENT
DTSTART;TZID=America/New_York:20221022T130000
DTEND;TZID=America/New_York:20221022T180000
DTSTAMP:20260423T145856
CREATED:20220221T205232Z
LAST-MODIFIED:20220221T221504Z
UID:561-1666443600-1666461600@www.davidsonlifeline.org
SUMMARY:A Taste of Davidson
DESCRIPTION:The Town of Davidson is pleased to present “A Taste of Davidson” on Saturday\, October 22\, 2022 from 5:00-10:00 p.m. This annual event is a fall festival to celebrate the flavors of Davidson and will feature food and beverages from our great restaurants as well as music by ACE Party Band. Jetton Street between Clean Juice and Mine by Sandy will be blocked off to accommodate the event\, but there is plenty of public parking at the Circles @ 30 for festival goers. Admission to the event is free. Local restaurants will offer tastes of some of their most popular menu items for a small fee. \nThis year participating vendors are:\nBen & Jerry’s\nBoomerang Water\nCarrburritos\nDavidson Chocolate Co.\nDavidson IceHouse\nEarthfare\nFamous Toastery\nGood Drip Coffee\nHop & VIne\nMain Street Books\nMasala Mastee\nOur Towns Cinemas\nPure Capelli\nSabor Latin Grill\nSummit Coffee\nThe Crazy Pig \nPlease contact Economic Development Manager Kim Fleming at kfleming@townofdavidson.org with any questions. \n\n\n\n\n\n\n\n\n\n\n2022
URL:https://www.davidsonlifeline.org/event/a-taste-of-davidson/
CATEGORIES:Town of Davidson
END:VEVENT
BEGIN:VEVENT
DTSTART;TZID=America/New_York:20221008T120000
DTEND;TZID=America/New_York:20221008T150000
DTSTAMP:20260423T145856
CREATED:20220221T204944Z
LAST-MODIFIED:20220221T221342Z
UID:559-1665230400-1665241200@www.davidsonlifeline.org
SUMMARY:Davidson Fall Art Festival
DESCRIPTION:Artists interested in participating in the Fall Art Festival\, please contact Kristen Feighery at Kristenfeighery@gmail.com.  For other information and inquiries\, contact Kristen as well.
URL:https://www.davidsonlifeline.org/event/davidson-fall-art-festival/
CATEGORIES:Town of Davidson
END:VEVENT
BEGIN:VEVENT
DTSTART;VALUE=DATE:20220715
DTEND;VALUE=DATE:20220717
DTSTAMP:20260423T145856
CREATED:20220228T212858Z
LAST-MODIFIED:20220228T213004Z
UID:616-1657915200-1658001599@www.davidsonlifeline.org
SUMMARY:988 Dialing Code Launching
DESCRIPTION:On July 16\, 2022\, 988 is launching across the 988 has been designated as the new three-digit dialing code that will route callers to the National Suicide Prevention Lifeline. While some areas may be currently able to connect to the Lifeline by dialing 988\, this dialing code will be available to everyone across the United States starting on July 16\, 2022.
URL:https://www.davidsonlifeline.org/event/988-dialing-code-launching/
CATEGORIES:Town of Davidson
END:VEVENT
BEGIN:VEVENT
DTSTART;TZID=America/New_York:20220704T140000
DTEND;TZID=America/New_York:20221017T160000
DTSTAMP:20260423T145856
CREATED:20220221T203829Z
LAST-MODIFIED:20220221T203914Z
UID:553-1656943200-1666022400@www.davidsonlifeline.org
SUMMARY:Concerts on the Green
DESCRIPTION:http://www.concertsonthegreen.com/
URL:https://www.davidsonlifeline.org/event/concerts-on-the-green/
CATEGORIES:Town of Davidson
END:VEVENT
BEGIN:VEVENT
DTSTART;VALUE=DATE:20220703
DTEND;VALUE=DATE:20220705
DTSTAMP:20260423T145856
CREATED:20220221T204650Z
LAST-MODIFIED:20220221T221136Z
UID:556-1656878400-1656964799@www.davidsonlifeline.org
SUMMARY:4th of July
DESCRIPTION:Event Details\n\n\nThere are no fireworks in Davidson\, but residents are invited to celebrate our nation’s independence with a patriotic stroll along South Street to the town green (see details below) and a concert on the green on Monday\, July 4 (6:00). The parade will include a color guard\, a fire engine\, and lots of patriotic residents. \n“This is a great way for our entire community to come together and show our Davidson spirit\,” said Community and Economic Development Manager Kim Fleming. \n“We hope to see neighbors from all over town — from Davidson Pointe to Davidson Landing to Summers Walk — in the parade and on the green for the concert\,” said Fleming. \n\n\n\n\n\n\n\n\n\n\n\n\n\n\n\n\n\n\n\n\n\n\n\n\n\n\n\n\n\n\n\nParticipants\nTo walk in the stroll\, residents are asked to line up in front of the 251 South Street building at 5:15 p.m. Police will be closing off South Street (starting at Cathey Street) between 5:10 and 5:35 p.m. so that participants can line up in the road and on the sidewalks. Festivities will begin at 5:30 p.m. All participants are encouraged to march in the parade dressed in Independence Day attire and to decorate their wagons\, bicycles\, tricycles\, and pets in red\, white\, and blue. A color guard comprised of members of the police and fire departments will lead the parade up South Street onto Main Street and the town green. \n\n\n\n\n\n\n\n\n\n\nFireworks\nThe Davidson Police Department reminds residents to remember their own safety and that of their neighbors — per the North Carolina General Statute\, fireworks are strictly prohibited for personal use. \n\n\n\n\n\n\n\n\n\n\nFor More Information\nFor more information on our 4th of July activities\, contact Kim Fleming by email or by phone at 704-940-9622.
URL:https://www.davidsonlifeline.org/event/4th-of-july/
CATEGORIES:Town of Davidson
END:VEVENT
BEGIN:VEVENT
DTSTART;VALUE=DATE:20220506
DTEND;VALUE=DATE:20220508
DTSTAMP:20260423T145856
CREATED:20220221T203217Z
LAST-MODIFIED:20220425T192445Z
UID:549-1651867200-1651953599@www.davidsonlifeline.org
SUMMARY:Town Day
DESCRIPTION:Join us for “Around” Town Day on Saturday\, May 7\, 2022. \nThis year\, we are going back to the roots of Town Day and focusing on service. We’ve partnered with the Davidson Lands Conservancy and Trees Davidson on the following projects: \n\nLake Davidson Shoreline clean-up or Kinkaid Greenway/Stream clean-up. Click Here to Register\nPlum Creek Park for tree care and greenway/steam clean-up efforts. Click Here to Register\n\nWe would like to thank the following groups for participating with planned service projects. The Rotary Club of Davidson\, Cub Scout Pack 58\, Scout BSA Troop 58\, La Escuelita Bilingual Preschool\, Girl Scouts\, Tarheel Trailblazers\, Davidson Lands Conservancy\, TreesDavidson\, Hobbs Hill Neighborhood.  Some of these projects include Parham Park shoreline clean-up\, Fisher Farm Mountain Biking Trail maintenance\, “Spring-ification at Ada Jenkins\, Beaty Park clean-up and more. \nA special thank you to Mecklenburg County Stormwater and Keep Mecklenburg Beautiful for their support in our clean up efforts. \nIf you have questions please email us at dpr@townofdavidson.org 
URL:https://www.davidsonlifeline.org/event/town-day/
CATEGORIES:Town of Davidson
ATTACH;FMTTYPE=image/png:https://www.davidsonlifeline.org/wp-content/uploads/2022/02/Document-1.png
END:VEVENT
BEGIN:VEVENT
DTSTART;VALUE=DATE:20220421
DTEND;VALUE=DATE:20220423
DTSTAMP:20260423T145856
CREATED:20220221T202733Z
LAST-MODIFIED:20220221T220819Z
UID:545-1650571200-1650657599@www.davidsonlifeline.org
SUMMARY:Earth Day
DESCRIPTION:April 22\, 2022 marks the 52st anniversary of Earth Day and the 22st anniversary of the D \n\n  \navidson Lands Conservancy.  The first Earth Day\, which took place on April 22\, 1970\,  increased the public’s awareness of the world’s environmental problems. Millions of Americans\, including students from thousands of colleges and universities\, participated in rallies\, marches and educational programs across the country. \nApril 24\, 2021 – May 05\, 2021\n\nJoin us for a special Earth Day themed exhibit\, “Bee-Hold the Humble Pollinator” from April 24 through May 5 at the Davidson Parks and Recreation office at 865 South Street\, Davidson\, NC. Explore the diversity and ecology of bees\, the pollination services they provide\, the threats they face\, and ways people can help support them.  Please keep in mind that face coverings are required to attend this exhibit and other Earth Day activities. On Saturday\, April 24 and May 1\, preregistration is encouraged\, click hereEarth Day\, but not required (waiting times may vary). \nApril 24\, 2021 \nOn Saturday\, April 24\, 9:00 a.m. to 12:00 p.m. other outdoor activities will be available in addition to the Bee-Hold the Humble Pollinator exhibit: \n\nMake a bee hotel with the Girl Scouts\nGo on a Davidson Land Conservancy World of Wonder scavenger hunt\nSpeak with Better Tomorrow Solar for a solar power Q & A\nCook with the sun solar oven demonstration\nSee the Davidson Parks and Recreation solar-electric E.L.F. bike\n\nA special thanks to the North Carolina Botanical Garden for partnering with us to offer this exhibit in Davidson. \n\n\n\n\n\n\n\n\n\n\n\n\n\n\n\n\n\n\n\n\n\n\n\n\n\n\n\n\n\n\n\n\nA To learn more about  the Town of Davidson’s sustainability and climate change efforts\, click hereEarth Day
URL:https://www.davidsonlifeline.org/event/earth-day/
CATEGORIES:Town of Davidson
END:VEVENT
BEGIN:VEVENT
DTSTART;VALUE=DATE:20220421
DTEND;VALUE=DATE:20220425
DTSTAMP:20260423T145856
CREATED:20220221T201210Z
LAST-MODIFIED:20220221T220518Z
UID:537-1650571200-1650830399@www.davidsonlifeline.org
SUMMARY:April is for Arts
DESCRIPTION:About\n\n\n\n\nApril is for Arts\, a celebration of art and culture in North Mecklenburg\, features numerous events throughout the month of April in Davidson\, Cornelius\, and Huntersville. \nThis includes the Gallery Crawl and Art on the Green\, North Mecklenburg’s largest annual multi-artist festival\, an event held on the Davidson Village Green which includes artists’ exhibits\, demonstrations\, food and live music. \nWant more information about Davidson’s April is for Arts events? \n\n\nGallery Crawl– Friday\, April 22\, 2022\nArt on the Green– Saturday\, April 23\, 2022 and Sunday\, April 24. 2022\nReadDavidson\n\n\n\n\n\n\nDavidson Community Invited to Celebrate April is for Arts:\nApril is for Arts is a month-long celebration of the arts in Davidson. We have selected the weekend of April 22-24\, 2022 to focus on the arts in town and have exciting events planned for both residents and visitors. \n• Gallery Crawl: Friday\, April 22\, 6:00 to 9:00 p.m.\n• Art on the Green Festival: Saturday\, April 23\, 10:00 a.m. to 5:00 p.m. and Sunday\, April 24\, noon until 4:00 p.m.\n• Concert on the Green: Sunday\, April 24 at 6:00 p.m. featuring the Davidson College Jazz Ensemble \nThe Gallery Crawl takes place on Friday\, April 22 from 6:00 to 9:00 p.m. Main Street and South Main Street businesses and sidewalks will be transformed into lively art galleries. Homewood Suites at the Circles @ 30 will also showcase many artists. \nArt on the Green is Davidson’s largest annual arts festival bringing thousands of residents and visitors to Davidson’s Main Street and town green on Saturday\, April 23 from 10:00 a.m. to 5:00 p.m. and Sunday\, April 24 from 12:00 p.m. to 4:00 p.m. This juried art show spotlights many of the region’s finest artists in a weekend-long celebration. Mark it on your calendar! Over 50 artists from the Lake Norman region\, North Carolina\, Virginia\, Massachusetts\, and Maine will be joining us to showcase and sell their creations in all types of media: sculpture\, watercolor\, photography\, wood\, glass\, ceramics\, etc. Patrons can stroll around the green to enjoy amazing art from a wide variety of talented regional artists\, listen to live music\, and enjoy local cuisine. \nSunday\, April 24 from 6:00-8:00 p.m. is the return of our popular Concerts on the Green series. The Davidson College Jazz Ensemble will kick off the concert season with a lively performance on the library stage for all to enjoy. Please bring your own picnic to enjoy on the town green or purchase food from our local restaurants that will be open that evening. \nAll of these events are made possible by our generous sponsors: Arts and Science Council\, DavidsonLearns\, Davidson College Friends of the Arts\, Lake Norman Currents\, and The Town of Davidson. \nIf you are interested in sponsoring April is for Arts or Concerts on the Green please visit www.townofdavidson.org/April or contact Kim Fleming at 704-940-9622 or kfleming@townofdavidson.org. \nYoung Artists’ Showcase\nThe Green School is sponsoring a Young Artists’ Showcase for students in sixth-twelfth grades.  For more information\, please open their flyer HERE. \nThe Community School of Davidson will be onsite selling student artwork as well as providing ceramic throwing demonstrations.
URL:https://www.davidsonlifeline.org/event/april-is-for-arts/
CATEGORIES:Town of Davidson
END:VEVENT
BEGIN:VEVENT
DTSTART;VALUE=DATE:20220305
DTEND;VALUE=DATE:20220501
DTSTAMP:20260423T145856
CREATED:20220228T212343Z
LAST-MODIFIED:20220228T212613Z
UID:611-1646506800-1651348799@www.davidsonlifeline.org
SUMMARY:2nd Annual 2022 Mayors' Fitness Challenge
DESCRIPTION:Welcome to the 2nd Annual 2022 Mayors’ Fitness Challenge\n\n\n\n\nRegistration is open now!\n\n\n\n\nThe three north Mecklenburg towns – Cornelius\, Davidson\, Huntersville\, along with Mooresville (#OneTownOneTeam) – are hosting their second Mayors’ Fitness Challenge.\n\nResidents of each town will participate as one team to win the title of Fittest Community. Last year\, the Town of Davidson was crowned “The Fittest Town\,” and we hope to defend the title in 2022!\n\nRegister Here: https://townofdavidson.recdesk.com/Community/Home
URL:https://www.davidsonlifeline.org/event/2nd-annual-2022-mayors-fitness-challenge/
CATEGORIES:Town of Davidson
END:VEVENT
BEGIN:VEVENT
DTSTART;VALUE=DATE:20220220
DTEND;VALUE=DATE:20220222
DTSTAMP:20260423T145856
CREATED:20220221T202046Z
LAST-MODIFIED:20220221T220212Z
UID:541-1645383600-1645469999@www.davidsonlifeline.org
SUMMARY:ReadDavidson
DESCRIPTION:ReadDavidson is a town-wide initiative organized by a group of avid readers\, Main Street Books\, the Davidson Public Library\, and the Town of Davidson. Since 2007\, books have been chosen annually\, and book-related events have been planned to make each book come to life. Each year\, Davidson residents are invited to participate in programs and events. \n\n\n\n\n\n\n\n\n\n\n\n\n2022\nFor the second time in a row\, the ReadDavidson Committee chose FOUR books so that readers of all ages could get involved!  Events will highlight each of these four selections with the aim of stimulating common conversation between friends\, families\, and community members. \n \n\n\n\n\n\n\n\n\n\n\n\n\nHow to participate\nRead (and support your local bookstore at the same time) \nMain Street Books is offering a 10% discount on each 2022 ReadDavidson title. \nDonate \n\n\n\nMain Street Books is joining up with the Davidson Parks & Recreation Department to provide donated books to both Davidson SCHOOLS and local families with demonstrated need. To donate a title (or titles)\, click HERE and then enter the code RD22DONATION at checkout. Many thanks for your support in helping as many readers as possible participate in ReadDavidson 2022.\n\n\n\nApply for a Book Grant \nSo that everyone in the community might participate in this program\, the Davidson Parks & Recreation Department\, Main Street Books\, and local supporters have teamed up to create the Book Grant Program. Need a book? Apply here Version OptionsReadDavidsonHeadline. \nAttend \n2022 events will be scheduled for April in conjunction with the town’s annual “April is for Arts” initiative. The ReadDavidson committee is hoping to host in-person events this year; however\, that will be dependent on current COVID-19 best practices. Watch for more information as events are scheduled! \n\n\n\n\n\n\n\n\n\n\n\n\nBook Descriptions\nAdult/Fiction: \nInfinite Country by Patricia Engel\nISBN: 9781982159474 \nBook description:\nI often wonder if we are living the wrong life in the wrong country. \nTalia is being held at a correctional facility for adolescent girls in the forested mountains of Colombia after committing an impulsive act of violence that may or may not have been warranted. She urgently needs to get out and get back home to Bogotá\, where her father and a plane ticket to the United States are waiting for her. If she misses her flight\, she might also miss her chance to finally be reunited with her family. \nHow this family came to occupy two different countries\, two different worlds\, comes into focus like twists of a kaleidoscope. We see Talia’s parents\, Mauro and Elena\, fall in love in a market stall as teenagers against a backdrop of civil war and social unrest. We see them leave Bogotá with their firstborn\, Karina\, in pursuit of safety and opportunity in the United States on a temporary visa\, and we see the births of two more children\, Nando and Talia\, on American soil. We witness the decisions and indecisions that lead to Mauro’s deportation and the family’s splintering—the costs they’ve all been living with ever since. \nAward-winning\, internationally acclaimed author Patricia Engel\, herself a dual citizen and the daughter of Colombian immigrants\, gives voice to all five family members as they navigate the particulars of their respective circumstances. Rich with Bogotá urban life\, steeped in Andean myth\, and tense with the daily reality of the undocumented in America\, Infinite Country “is as much an all-American story as it is a global one” (Booklist\, starred review). \nYoung Adult/Fiction: \nWhat Makes Us by Rafi Mittlefehldt\nISBN: 9781536219050 \nBook description:\nA viral video reveals a teen’s dark family history\, leaving him to reckon with his heritage\, legacy\, and identity in this fiery\, conversation-starting novel. \nEran Sharon knows nothing of his father except that he left when Eran was a baby. Now a senior in high school and living with his protective but tight-lipped mother\, Eran is a passionate young man deeply interested in social justice and equality. When he learns that the Houston police have launched a program to increase traffic stops\, Eran organizes a peaceful protest. But a heated moment at the protest goes viral\, and a reporter connects the Sharon family to a tragedy fifteen years earlier — and asks if Eran is anything like his father\, a supposed terrorist. Soon enough\, Eran is wondering the same thing\, especially when the people he’s gone to school and temple with for years start to look at him differently. Timely\, powerful\, and full of nuance\, Rafi Mittlefehldt’s sophomore novel confronts the prejudices\, fears\, and strengths of family and community\, striking right to the heart of what makes us who we are. \nMiddle Grades/Non-Fiction\, graphic novel: \nWhen Stars Are Scattered by Victoria Jamieson and Omar Mohammed\nISBN: 9780525553908 \nBook description:\nA National Book Award Finalist\, this remarkable graphic novel is about growing up in a refugee camp\, as told by a former Somali refugee to the Newbery Honor-winning creator of Roller Girl. \nOmar and his younger brother\, Hassan\, have spent most of their lives in Dadaab\, a refugee camp in Kenya. Life is hard there: never enough food\, achingly dull\, and without access to the medical care Omar knows his nonverbal brother needs. So when Omar has the opportunity to go to school\, he knows it might be a chance to change their future . . . but it would also mean leaving his brother\, the only family member he has left\, every day. \nHeartbreak\, hope\, and gentle humor exist together in this graphic novel about a childhood spent waiting\, and a young man who is able to create a sense of family and home in the most difficult of settings. It’s an intimate\, important\, unforgettable look at the day-to-day life of a refugee\, as told to New York Times Bestselling author/artist Victoria Jamieson by Omar Mohamed\, the Somali man who lived the story. \nChildren’s Picture book: \nStory Boat by Kyo Maclear\, Illustrated by Rashin Kheiriyeh\nISBN: 9780735263598 \nBook description:\nWhen you have to leave behind almost everything you know\, where can you call home? Sometimes home is simply where we are: here. An imaginative\, lyrical\, unforgettable picture book about the migrant experience through a child’s eyes. \nWhen a little girl and her younger brother are forced along with their family to flee the home they’ve always known\, they must learn to make a new home for themselves — wherever they are. And sometimes the smallest things — a cup\, a blanket\, a lamp\, a flower\, a story — can become a port of hope in a terrible storm. As the refugees travel onward toward an uncertain future\, they are buoyed up by their hopes\, dreams and the stories they tell — a story that will carry them perpetually forward. \nThis timely\, sensitively told story\, written by multiple award–winner Kyo Maclear and illustrated by Sendak Fellowship recipient Rashin Kheiriyeh\, introduces very young readers in a gentle\, non-frightening and ultimately hopeful way to the current refugee crisis. \n\n\n\n\n\n\n\n\nReadDavidson Playlist\nCheck out recordings of past events here Version OptionsReadDavidsonHeadline. \n\n\n\n\n\n\n\n\n\n\n\n\nSponsors\nThe ReadDavidson initiative would not be possible without the support of the following sponsors: \n\nMain Street Books\nCharlotte Mecklenburg Library\nDavidson Public Library\n\n\n\n\n\n\n\n\n\n\n\n\n\nPrior ReadDavidson selections\n2022: Infinite Country by Patricia Engel; What Makes Us by Rafi Mittlefehldt; When Stars are Scattered by Victoria Jamieson and Omar Mohamed; Story Boat by Kyo Maclear \n2021: Caste: The Origins of Our Discontent by Isabel Wilkerson; Legendborn by Tracy Deonn; Genesis Begins Again by Alicia Williams; The Power of One by Trudy Ludwig \n2019: Varina by Charles Frazier \n2018: News of the World by Paulette Jiles \n2017: Station Eleven by Emily St. John Mandel \n2016: Wherever There is Light by Peter Golden \n2015: Guests on Earth by Lee Smith \n2014: One Second After by William Forstchen \n2013: A Land More Kind Than Home by Wiley Cash \n2012: State of Wonder by Ann Patchett \n2011: The Help by Kathryn Stockett \n2010: A Walk in the Woods by Bill Bryson \n2009: The Color of Water by James McBride \n2008: One Foot in Eden by Ron Rash \n2007: The Bridge by Doug Marlette
URL:https://www.davidsonlifeline.org/event/readdavidson/
CATEGORIES:Town of Davidson
ATTACH;FMTTYPE=image/png:https://www.davidsonlifeline.org/wp-content/uploads/2022/02/Document.png
END:VEVENT
BEGIN:VEVENT
DTSTART;VALUE=DATE:20220116
DTEND;VALUE=DATE:20220118
DTSTAMP:20260423T145856
CREATED:20220221T195939Z
LAST-MODIFIED:20220221T195939Z
UID:534-1642359600-1642445999@www.davidsonlifeline.org
SUMMARY:Martin Luther King\, Jr. Day
DESCRIPTION:The Town of Davidson honored the life and legacy of Dr. Martin Luther King\, Jr. with a virtual celebration.  \nTo participate in the United Way’s free 21-Day Racial Equity Challenge\, enroll at: www.uwccequitychallenge.org. The challenge begins on Monday\, January 17\, 2022 but you can join it at any time. The challenge is part of a national dialogue to address how inequity & racism affect our lives and communities. \nThe United Way also invites you to participate in a week-long virtual service event which runs January 17-22. Register for that also at: www.uwccequitychallenge.org \n\n\n\n\n\n\n\n\n2022 Virtual MLK Day Celebration\n\n\n\n\n \n  \n2021 Virtual MLK Day Celebration\n \n  \n\n\n\n\n2021 continuing conversations are posted at www.townofdavidson.org/continuingconversation\n\n\n\n\n  \n Version OptionsMartin Luther King\, Jr. DayHeadline \n\n\n\n\nTo learn more about Dr. King\, you can visit the following websites:\nThe King Center\nMartin Luther King\, Jr. Memorial\n\n\n\n\n  \n \n  \n  \n  \n  \n  \n  \n  \n  \n  \n 
URL:https://www.davidsonlifeline.org/event/martin-luther-king-jr-day/
CATEGORIES:Town of Davidson
END:VEVENT
END:VCALENDAR